BEGIN:VCALENDAR

METHOD:PUBLISH
PRODID:-//Typo3 CMS\, Sallingstadt Veranstaltungen

VERSION:2.0


BEGIN:VEVENT
SEQUENCE:0
DTSTART:20211002T140000Z
DTEND:20211002T170000Z
DTSTAMP:20210916T063650Z
SUMMARY:VIA LUCIS 9. Internationales  TOGETHER-Art-Symposium 2021
LOCATION:
DESCRIPTION:
UID:tt_news2136@www.sallingstadt.net

URL;VALUE=URI:http://www.sallingstadt.net//sallingstadt/aktuelles/aktuelles-detail/article/via-kucis-9-internationales-together-art-symposium-2021-1?tx_ttnews%5BbackPid%5D=143&cHash=49566df929a92f590e433f7da3b01c2f
END:VEVENT

END:VCALENDAR